BEGIN:VCALENDAR
VERSION:2.0
PRODID:-//ChamberMaster//Event Calendar 2.0//EN
METHOD:PUBLISH
X-PUBLISHED-TTL:P3D
REFRESH-INTERVAL:P3D
CALSCALE:GREGORIAN
BEGIN:VEVENT
DTSTART:20180323T230000Z
DTEND:20180324T013000Z
X-MICROSOFT-CDO-ALLDAYEVENT:FALSE
SUMMARY:Austin County Go Texan Crawfish Boil
DESCRIPTION:All you can eat\n\n$40 per person\n\nAdvance Tickets Only
X-ALT-DESC;FMTTYPE=text/html:<div>All you can eat</div>\n\n<div>$40 per person</div>\n\n<div>Advance Tickets Only</div>\n
LOCATION:
UID:e.2500.3760
SEQUENCE:3
DTSTAMP:20260423T053028Z
URL:https://business.bellville.com/events/details/austin-county-go-texan-crawfish-boil-3760
END:VEVENT

END:VCALENDAR
