BEGIN:VCALENDAR
VERSION:2.0
PRODID:-//ChamberMaster//Event Calendar 2.0//EN
METHOD:PUBLISH
X-PUBLISHED-TTL:P3D
REFRESH-INTERVAL:P3D
CALSCALE:GREGORIAN
BEGIN:VEVENT
DTSTART:20160924T230000Z
DTEND:20160925T045500Z
X-MICROSOFT-CDO-ALLDAYEVENT:FALSE
SUMMARY:Austin County Fair Shrimp Boil & Kick-Off Dance
DESCRIPTION:Shrimp Boil & Dance\n\nSponsored by the Austin County Fair Association\n\nAll you can eat shrimp with all the trimmings including sausage\, corn and potatoes. Live and Silent Auctions. Proceeds from this event help support the scholarship fund and other programs for the youth of Austin County.
X-ALT-DESC;FMTTYPE=text/html:Shrimp Boil &amp\; Dance<br />\nSponsored by the Austin County Fair Association<br />\nAll you can eat shrimp with all the trimmings including sausage\, corn and potatoes.&nbsp\;Live and Silent Auctions.&nbsp\;Proceeds from this event help support the scholarship fund and other programs for the youth of Austin County.
LOCATION:Austin County Fair Convention & Expo Center 1076 East Hill\, Bellville\, Texas 77418
UID:e.2500.539
SEQUENCE:3
DTSTAMP:20260424T095218Z
URL:https://business.bellville.com/events/details/austin-county-fair-shrimp-boil-kick-off-dance-539
END:VEVENT

END:VCALENDAR
