BEGIN:VCALENDAR
VERSION:2.0
PRODID:-//ChamberMaster//Event Calendar 2.0//EN
METHOD:PUBLISH
X-PUBLISHED-TTL:P3D
REFRESH-INTERVAL:P3D
CALSCALE:GREGORIAN
BEGIN:VEVENT
DTSTART:20180130T233000Z
DTEND:20180131T010000Z
X-MICROSOFT-CDO-ALLDAYEVENT:FALSE
SUMMARY:Austin County Fair and Bellville Chamber of Commerce After Hours Reception
DESCRIPTION:
X-ALT-DESC;FMTTYPE=text/html:
LOCATION:Austin County Exposition and Convention Center
UID:e.2500.3719
SEQUENCE:3
DTSTAMP:20260423T102232Z
URL:https://business.bellville.com/events/details/austin-county-fair-and-bellville-chamber-of-commerce-after-hours-reception-3719
END:VEVENT

END:VCALENDAR
