BEGIN:VCALENDAR
VERSION:2.0
PRODID:-//ChamberMaster//Event Calendar 2.0//EN
METHOD:PUBLISH
X-PUBLISHED-TTL:P3D
REFRESH-INTERVAL:P3D
CALSCALE:GREGORIAN
BEGIN:VEVENT
DTSTART:20180917T210000Z
DTEND:20180918T010000Z
X-MICROSOFT-CDO-ALLDAYEVENT:FALSE
SUMMARY:Austin County Ducks Unlimited Shoot and Meet
DESCRIPTION:
X-ALT-DESC;FMTTYPE=text/html:
LOCATION:Texas Premier Sporting Arms Sealy\, TX
UID:e.2500.6950
SEQUENCE:3
DTSTAMP:20260422T204541Z
URL:https://business.bellville.com/events/details/austin-county-ducks-unlimited-shoot-and-meet-6950
END:VEVENT

END:VCALENDAR
