BEGIN:VCALENDAR
VERSION:2.0
PRODID:-//ChamberMaster//Event Calendar 2.0//EN
METHOD:PUBLISH
X-PUBLISHED-TTL:P3D
REFRESH-INTERVAL:P3D
CALSCALE:GREGORIAN
BEGIN:VEVENT
DTSTART:20171112T220000Z
DTEND:20171113T000000Z
X-MICROSOFT-CDO-ALLDAYEVENT:FALSE
SUMMARY:Austin County Civic Chorale presents "Thankful"
DESCRIPTION:
X-ALT-DESC;FMTTYPE=text/html:
LOCATION:Sts. Peter and Paul Catholic Church Bellville\, TX
UID:e.2500.3673
SEQUENCE:3
DTSTAMP:20260423T114134Z
URL:https://business.bellville.com/events/details/austin-county-civic-chorale-presents-thankful-3673
END:VEVENT

END:VCALENDAR
