BEGIN:VCALENDAR
VERSION:2.0
PRODID:-//ChamberMaster//Event Calendar 2.0//EN
METHOD:PUBLISH
X-PUBLISHED-TTL:P3D
REFRESH-INTERVAL:P3D
CALSCALE:GREGORIAN
BEGIN:VEVENT
DTSTART:20181209T220000Z
DTEND:20181210T000000Z
X-MICROSOFT-CDO-ALLDAYEVENT:FALSE
SUMMARY:Austin County Civic Chorale Presents "Gloria"
DESCRIPTION:
X-ALT-DESC;FMTTYPE=text/html:
LOCATION:Immaculate Conception Catholic Church Sealy TX
UID:e.2500.6992
SEQUENCE:3
DTSTAMP:20260422T135535Z
URL:https://business.bellville.com/events/details/austin-county-civic-chorale-presents-gloria-6992
END:VEVENT

END:VCALENDAR
