BEGIN:VCALENDAR
VERSION:2.0
PRODID:-//ChamberMaster//Event Calendar 2.0//EN
METHOD:PUBLISH
X-PUBLISHED-TTL:P3D
REFRESH-INTERVAL:P3D
CALSCALE:GREGORIAN
BEGIN:VEVENT
DTSTART:20170817T233000Z
DTEND:20170818T013000Z
X-MICROSOFT-CDO-ALLDAYEVENT:FALSE
SUMMARY:Austin County Civic Chorale 33rd Season Rehearsal & Birthday Supper
DESCRIPTION:ACC Chorale Enters 33rd Season\n\n \n\n      The Austin County Civic Chorale is entering their 33rd season this month.   Rehearsals will begin on August 17th at the Sens Activity Center\, 200 Briar Ridge Dr\, in Bellville.  A birthday celebration supper will begin at 6:30 p.m.  along with a short look at the upcoming music for the Fall concert\, which will be held on Nov. 12th.  The theme for this concert is "Thankful" and will feature selections relating to Thanksgiving and gratitude.    All interested area singers are invited to participate.  The Chorale\, which was started in 1985\, has performed quality choral literature of many genres for the past 32 years.  It is a volunteer\, non-audition chorus.  For more information\, contact Janet Allphin at 979-877-5643.
X-ALT-DESC;FMTTYPE=text/html:<span style="font-family: calibri\;"><span style="font-size: 13.5pt\;"><span style="color: blue\;">&nbsp\;<span style="font-size: 12px\;"><span style="font-family: arial\;">&nbsp\;&nbsp\; ACC Chorale Enters 33rd Season</span></span></span></span></span><br />\n<span style="font-size: 12px\;"><span style="font-family: arial\;">&nbsp\;<br />\n<span style="color: blue\;">&nbsp\;&nbsp\;&nbsp\;&nbsp\;&nbsp\; The Austin County Civic Chorale is entering their 33rd season this month.&nbsp\;&nbsp\; Rehearsals will begin on August 17th at the Sens Activity Center\, 200 Briar Ridge Dr\, in Bellville.&nbsp\; A birthday celebration supper will begin at 6:30 p.m.&nbsp\; along with a short look at the upcoming music for the Fall concert\, which will be held on Nov. 12th.&nbsp\; The theme for this concert is &ldquo\;Thankful&rdquo\; and will feature selections relating to Thanksgiving and gratitude.&nbsp\;&nbsp\;&nbsp\; All interested area singers are invited to participate.&nbsp\; The Chorale\, which was started in 1985\, has performed quality choral literature of many genres for the past 32 years.&nbsp\; It is a volunteer\, non-audition chorus.&nbsp\; For more information\, contact Janet Allphin at 979-877-5643.</span></span></span><br />\n&nbsp\;
LOCATION:Sens Activity Center 200 Briar Ridge Dr. Bellville\, TX 77418
UID:e.2500.3587
SEQUENCE:3
DTSTAMP:20260423T163439Z
URL:https://business.bellville.com/events/details/austin-county-civic-chorale-33rd-season-rehearsal-birthday-supper-3587
END:VEVENT

END:VCALENDAR
