BEGIN:VCALENDAR
VERSION:2.0
PRODID:-//ChamberMaster//Event Calendar 2.0//EN
METHOD:PUBLISH
X-PUBLISHED-TTL:P3D
REFRESH-INTERVAL:P3D
CALSCALE:GREGORIAN
BEGIN:VEVENT
DTSTART:20170804T140000Z
DTEND:20170804T170000Z
X-MICROSOFT-CDO-ALLDAYEVENT:FALSE
SUMMARY:Austin County Back to School Fair
DESCRIPTION:
X-ALT-DESC;FMTTYPE=text/html:
LOCATION:Sealy Junior High School 939 Tiger Lane Sealy\, TX 77474
UID:e.2500.3574
SEQUENCE:3
DTSTAMP:20260423T161820Z
URL:https://business.bellville.com/events/details/austin-county-back-to-school-fair-3574
END:VEVENT

END:VCALENDAR
