BEGIN:VCALENDAR
VERSION:2.0
PRODID:-//ChamberMaster//Event Calendar 2.0//EN
METHOD:PUBLISH
X-PUBLISHED-TTL:P3D
REFRESH-INTERVAL:P3D
CALSCALE:GREGORIAN
BEGIN:VEVENT
DTSTART:20160720T140000Z
DTEND:20160720T170000Z
X-MICROSOFT-CDO-ALLDAYEVENT:FALSE
SUMMARY:Austin County Back to School Fair
DESCRIPTION:We're giving away school supplies!  Only one backpack with school supplies per school-aged child (PreK-12).  While supplies last.  Children mst be present with an adult.
X-ALT-DESC;FMTTYPE=text/html:<strong><span style="font-size: 14px\;">We&#39\;re giving away school supplies!</span></strong>&nbsp\; <span style="font-size: 11px\;">Only one backpack with school supplies per school-aged child (PreK-12).&nbsp\; While supplies last.&nbsp\; Children mst be present with an adult.</span>
LOCATION:Sealy High School - 2372 Championship Drive\, Sealy TX 77474
UID:e.2500.1724
SEQUENCE:3
DTSTAMP:20260424T125218Z
URL:https://business.bellville.com/events/details/austin-county-back-to-school-fair-07-20-2016-1724
END:VEVENT

END:VCALENDAR
