BEGIN:VCALENDAR
VERSION:2.0
PRODID:-//ChamberMaster//Event Calendar 2.0//EN
METHOD:PUBLISH
X-PUBLISHED-TTL:P3D
REFRESH-INTERVAL:P3D
CALSCALE:GREGORIAN
BEGIN:VEVENT
DTSTART:20170210T233000Z
DTEND:20170211T033000Z
X-MICROSOFT-CDO-ALLDAYEVENT:FALSE
SUMMARY:Austin County Aggie Mothers' Club 2nd Annual Dinner and Dance
DESCRIPTION:Featuring the Aggieland Orchestra\n\nunder the direction of Colonel Jay Brewer
X-ALT-DESC;FMTTYPE=text/html:Featuring the Aggieland Orchestra<br />\nunder the direction of Colonel Jay Brewer
LOCATION:Bellville United Methodist Church
UID:e.2500.1783
SEQUENCE:3
DTSTAMP:20260424T020326Z
URL:https://business.bellville.com/events/details/austin-county-aggie-mothers-club-2nd-annual-dinner-and-dance-1783
END:VEVENT

END:VCALENDAR
