BEGIN:VCALENDAR
VERSION:2.0
PRODID:-//ChamberMaster//Event Calendar 2.0//EN
METHOD:PUBLISH
X-PUBLISHED-TTL:P3D
REFRESH-INTERVAL:P3D
CALSCALE:GREGORIAN
BEGIN:VEVENT
DTSTART;VALUE=DATE:20171026
DTEND;VALUE=DATE:20171030
TRANSP:TRANSPARENT
X-MICROSOFT-CDO-ALLDAYEVENT:TRUE
SUMMARY:Asleep at the Wheel & Ray Benson present Texas Dance Hall Tour
DESCRIPTION:
X-ALT-DESC;FMTTYPE=text/html:
LOCATION:
UID:e.2500.3585
SEQUENCE:3
DTSTAMP:20260423T125335Z
URL:https://business.bellville.com/events/details/asleep-at-the-wheel-ray-benson-present-texas-dance-hall-tour-3585
END:VEVENT

END:VCALENDAR
