BEGIN:VCALENDAR
VERSION:2.0
PRODID:-//ChamberMaster//Event Calendar 2.0//EN
METHOD:PUBLISH
X-PUBLISHED-TTL:P3D
REFRESH-INTERVAL:P3D
CALSCALE:GREGORIAN
BEGIN:VEVENT
DTSTART:20160609T160000Z
DTEND:20160609T190000Z
X-MICROSOFT-CDO-ALLDAYEVENT:FALSE
SUMMARY:Arbors of Briarwood Open House (hosted by Costco Wholesale)
DESCRIPTION:Costco Wholesale will be hosting an Open House for Arbors of Briarwood\n\n\n\nRefreshments\n\nFree Costco samples\n\nCostco Cash Cards for new memberships
X-ALT-DESC;FMTTYPE=text/html:Costco Wholesale will be hosting an Open House for Arbors of Briarwood<br />\n<br />\nRefreshments<br />\nFree Costco samples<br />\nCostco Cash Cards for new memberships<br />\n&nbsp\;
LOCATION:1517 West Main Bellville TX 77418 For more information contact Matt Busby 281-347-9919
UID:e.2500.1512
SEQUENCE:3
DTSTAMP:20260424T161251Z
URL:https://business.bellville.com/events/details/arbors-of-briarwood-open-house-hosted-by-costco-wholesale-06-09-2016-1512
END:VEVENT

END:VCALENDAR
