BEGIN:VCALENDAR
VERSION:2.0
PRODID:-//ChamberMaster//Event Calendar 2.0//EN
METHOD:PUBLISH
X-PUBLISHED-TTL:P3D
REFRESH-INTERVAL:P3D
CALSCALE:GREGORIAN
BEGIN:VEVENT
DTSTART:20180527T160000Z
DTEND:20180528T000000Z
X-MICROSOFT-CDO-ALLDAYEVENT:FALSE
SUMMARY:Annual Shelby Volunteer Fire Department Celebration
DESCRIPTION:Beef and Pork BBQ Meal Served at 11am\n\nLive Auction at 1pm\n\nFree Dance\n\nRaffle\n\nBounce House\n\nBBQ to go will start serving at 10:30am
X-ALT-DESC;FMTTYPE=text/html:Beef and Pork BBQ Meal Served at 11am<br />\nLive Auction at 1pm<br />\nFree Dance<br />\nRaffle<br />\nBounce House<br />\nBBQ to go will start serving at 10:30am
LOCATION:Harmonie Hall Shelby Texas
UID:e.2500.3385
SEQUENCE:3
DTSTAMP:20260423T014953Z
URL:https://business.bellville.com/events/details/annual-shelby-volunteer-fire-department-celebration-3385
END:VEVENT

END:VCALENDAR
