BEGIN:VCALENDAR
VERSION:2.0
PRODID:-//ChamberMaster//Event Calendar 2.0//EN
METHOD:PUBLISH
X-PUBLISHED-TTL:P3D
REFRESH-INTERVAL:P3D
CALSCALE:GREGORIAN
BEGIN:VEVENT
DTSTART:20190428T160000Z
DTEND:20190428T210000Z
X-MICROSOFT-CDO-ALLDAYEVENT:FALSE
SUMMARY:Annual Fruehling Saengerfest
DESCRIPTION:German Singing Festival and Meal (Bar-B-Que Chicken & Sausage Dinner) \n\nThis German singing festival and meal also includes a biergarten\, dancing\, live music and singalongs\, and vendors of German and handmade crafts.
X-ALT-DESC;FMTTYPE=text/html:<br />\nGerman Singing Festival and Meal (Bar-B-Que Chicken &amp\; Sausage Dinner)&nbsp\;<br />\nThis German singing festival and meal also includes a biergarten\, dancing\, live music and singalongs\, and vendors of German and handmade crafts.
LOCATION:Concordia Hall 952 S. Tesch\, Bellville 77418
UID:e.2500.528
SEQUENCE:3
DTSTAMP:20260420T084958Z
URL:https://business.bellville.com/events/details/annual-fruehling-saengerfest-528
END:VEVENT

END:VCALENDAR
