BEGIN:VCALENDAR
VERSION:2.0
PRODID:-//ChamberMaster//Event Calendar 2.0//EN
METHOD:PUBLISH
X-PUBLISHED-TTL:P3D
REFRESH-INTERVAL:P3D
CALSCALE:GREGORIAN
BEGIN:VEVENT
DTSTART:20180817T210000Z
DTEND:20180818T030000Z
X-MICROSOFT-CDO-ALLDAYEVENT:FALSE
SUMMARY:Annual Bellville VFD Celebration
DESCRIPTION:Bellville VFD BBQ\, Family Activities\, Live & Silent Auctions
X-ALT-DESC;FMTTYPE=text/html:Bellville VFD BBQ\, Family Activities\, Live &amp\; Silent Auctions&nbsp\;
LOCATION:Austin County Fair Convention & Expo Center: 1076 East Hill\, Bellville\, Texas 77418
UID:e.2500.536
SEQUENCE:3
DTSTAMP:20260422T221822Z
URL:https://business.bellville.com/events/details/annual-bellville-vfd-celebration-536
END:VEVENT

END:VCALENDAR
