BEGIN:VCALENDAR
VERSION:2.0
PRODID:-//ChamberMaster//Event Calendar 2.0//EN
METHOD:PUBLISH
X-PUBLISHED-TTL:P3D
REFRESH-INTERVAL:P3D
CALSCALE:GREGORIAN
BEGIN:VEVENT
DTSTART:20160618T220000Z
DTEND:20160618T170000Z
X-MICROSOFT-CDO-ALLDAYEVENT:FALSE
SUMMARY:Annual Bellville Chamber of Commerce Banquet
DESCRIPTION:Make plans to attend and celebrate our Bellville members at our Annual Bellville Chamber of Commerce Banquet. We hope to see you there!
X-ALT-DESC;FMTTYPE=text/html:Make plans to attend and celebrate our Bellville members at our&nbsp\;Annual Bellville Chamber of Commerce Banquet. We hope to see you there!
LOCATION:Bellville Volunteer Fire Department 511 W Main Bellville TX 77418 RSVP by June 9 2016 979-865-3407
UID:e.2500.835
SEQUENCE:3
DTSTAMP:20260424T144554Z
URL:https://business.bellville.com/events/details/annual-bellville-chamber-of-commerce-banquet-06-18-2016-835
END:VEVENT

END:VCALENDAR
