BEGIN:VCALENDAR
VERSION:2.0
PRODID:-//ChamberMaster//Event Calendar 2.0//EN
METHOD:PUBLISH
X-PUBLISHED-TTL:P3D
REFRESH-INTERVAL:P3D
CALSCALE:GREGORIAN
BEGIN:VEVENT
DTSTART:20171117T140000Z
DTEND:20171117T220000Z
X-MICROSOFT-CDO-ALLDAYEVENT:FALSE
SUMMARY:American Cancer Society Pre-Christmas Sale
DESCRIPTION:BENEFITING THE AMERICAN CANCER SOCIETY\n\nHomemade desserts\, Christmas decorations and other items
X-ALT-DESC;FMTTYPE=text/html:BENEFITING THE AMERICAN CANCER SOCIETY<br />\nHomemade desserts\, Christmas decorations and other items<br />\n&nbsp\;
LOCATION:NW corner of the Square across from the Courthouse
UID:e.2500.3663
SEQUENCE:3
DTSTAMP:20260423T114603Z
URL:https://business.bellville.com/events/details/american-cancer-society-pre-christmas-sale-3663
END:VEVENT

END:VCALENDAR
