BEGIN:VCALENDAR
VERSION:2.0
PRODID:-//ChamberMaster//Event Calendar 2.0//EN
METHOD:PUBLISH
X-PUBLISHED-TTL:P3D
REFRESH-INTERVAL:P3D
CALSCALE:GREGORIAN
BEGIN:VEVENT
DTSTART:20161125T003000Z
DTEND:20161125T013000Z
X-MICROSOFT-CDO-ALLDAYEVENT:FALSE
SUMMARY:AL-ANON Meeting
DESCRIPTION:
X-ALT-DESC;FMTTYPE=text/html:
LOCATION:Bellville United Methodist Church 234 S. Masonic St. Bellville\, TX 77418
UID:e.2500.1801
SEQUENCE:3
DTSTAMP:20260424T071236Z
URL:https://business.bellville.com/events/details/al-anon-meeting-11-24-2016-1801
END:VEVENT

END:VCALENDAR
