BEGIN:VCALENDAR
VERSION:2.0
PRODID:-//ChamberMaster//Event Calendar 2.0//EN
METHOD:PUBLISH
X-PUBLISHED-TTL:P3D
REFRESH-INTERVAL:P3D
CALSCALE:GREGORIAN
BEGIN:VEVENT
DTSTART:20180719T140000Z
DTEND:20180719T220000Z
X-MICROSOFT-CDO-ALLDAYEVENT:FALSE
SUMMARY:Advanced QuickBoooks
DESCRIPTION:This is an all-day advanced-level course for people who have taken the Basic QuickBooks course or have equivalent experience. You must be familiar with Windows using a PC. This class will not teach the online version of QuickBooks. CLASS DATE: Thursday\, July 19\, 2018 . . . 9:00 am - 5:00 pm with an hour off for lunch. (Lunch is not provided.) COURSE TOPICS: Customer job list Estimates Progress invoices Job costing Billing for time & costs Customizing invoices Payroll Budgets Multiple sales tax items Inventory adjustments Memorized transactions INSTRUCTOR: Julie Gilmer\, CPA . . . Certified QuickBooks Advisor Class size is limited. Registration and payment is required by 5:00 p.m. on Tuesday\, July 17\, 2018
X-ALT-DESC;FMTTYPE=text/html:This is an all-day advanced-level course for people who have taken the Basic QuickBooks course or have equivalent experience. You must be familiar with Windows using a PC. This class will not teach the online version of QuickBooks. CLASS DATE: Thursday\, July 19\, 2018 . . . 9:00 am - 5:00 pm with an hour off for lunch. (Lunch is not provided.) COURSE TOPICS: Customer job list Estimates Progress invoices Job costing Billing for time &amp\; costs Customizing invoices Payroll Budgets Multiple sales tax items Inventory adjustments Memorized transactions INSTRUCTOR: Julie Gilmer\, CPA . . . Certified QuickBooks Advisor Class size is limited. Registration and payment is required by 5:00 p.m. on Tuesday\, July 17\, 2018
LOCATION:A.W. Hodde\, Jr.\, Technical Education Center\, 2910 S. Blue Bell Rd Brenham\, Texas 77833
UID:e.2500.6886
SEQUENCE:3
DTSTAMP:20260422T221430Z
URL:https://business.bellville.com/events/details/advanced-quickboooks-6886
END:VEVENT

END:VCALENDAR
