BEGIN:VCALENDAR
VERSION:2.0
PRODID:-//ChamberMaster//Event Calendar 2.0//EN
METHOD:PUBLISH
X-PUBLISHED-TTL:P3D
REFRESH-INTERVAL:P3D
CALSCALE:GREGORIAN
BEGIN:VEVENT
DTSTART:20180221T150000Z
DTEND:20180221T230000Z
X-MICROSOFT-CDO-ALLDAYEVENT:FALSE
SUMMARY:Advanced QuickBooks Workshop
DESCRIPTION:This is an all-day advanced-level course for people who have taken the Basic QuickBooks course or have equivalent experience. You must be familiar with Windows using a PC. This class will not teach the online version of QuickBooks.
X-ALT-DESC;FMTTYPE=text/html:This is an all-day advanced-level course for people who have taken the Basic QuickBooks course or have equivalent experience. You must be familiar with Windows using a PC. This class will not teach the online version of QuickBooks.
LOCATION:A.W. Hodde\, Jr.\, Technical Education Center\, 2910 S. Blue Bell Rd Brenham\, Texas 77833
UID:e.2500.3717
SEQUENCE:3
DTSTAMP:20260423T070516Z
URL:https://business.bellville.com/events/details/advanced-quickbooks-workshop-3717
END:VEVENT

END:VCALENDAR
