BEGIN:VCALENDAR
VERSION:2.0
PRODID:-//ChamberMaster//Event Calendar 2.0//EN
METHOD:PUBLISH
X-PUBLISHED-TTL:P3D
REFRESH-INTERVAL:P3D
CALSCALE:GREGORIAN
BEGIN:VEVENT
DTSTART:20170224T230000Z
DTEND:20170225T060000Z
X-MICROSOFT-CDO-ALLDAYEVENT:FALSE
SUMMARY:Acoustic Night Friday
DESCRIPTION:Acoustic Night featuring the talented young Morgan Ashley. Join us for dinner while listening to her music.
X-ALT-DESC;FMTTYPE=text/html:Acoustic Night featuring the talented young Morgan Ashley. Join us for dinner while listening to her music.
LOCATION:Emery's Buffalo Creek
UID:e.2500.3191
SEQUENCE:3
DTSTAMP:20260424T015326Z
URL:https://business.bellville.com/events/details/acoustic-night-friday-3191
END:VEVENT

END:VCALENDAR
