BEGIN:VCALENDAR
VERSION:2.0
PRODID:-//ChamberMaster//Event Calendar 2.0//EN
METHOD:PUBLISH
X-PUBLISHED-TTL:P3D
REFRESH-INTERVAL:P3D
CALSCALE:GREGORIAN
BEGIN:VEVENT
DTSTART:20161217T160000Z
DTEND:20161217T220000Z
X-MICROSOFT-CDO-ALLDAYEVENT:FALSE
SUMMARY:ACGOP Sharing Christmas Food Drive
DESCRIPTION:Collecting non-perishable food items at five local stores and donating to Bellville Food Pantry\, Industry West End Food Pantry\, Sealy Christian Food Pantry and St. Vincent de Paul Food Pantry in Wallis. At 4 pm at each store\, a donor's name will be drawn for a shopping spree at that store. You need not be present to win.
X-ALT-DESC;FMTTYPE=text/html:Collecting non-perishable food items at five local stores and donating to Bellville Food Pantry\, Industry West End Food Pantry\, Sealy Christian Food Pantry and St. Vincent de Paul Food Pantry in Wallis. At 4 pm at each store\, a donor&rsquo\;s name will be drawn for a shopping spree at that store. You need not be present to win.
LOCATION:Brookshire Bros\, Bellville\; Lindemann's\, Industry\; Walmart and Bill's\, Sealy\; Dollar General\, Wallis
UID:e.2500.3166
SEQUENCE:3
DTSTAMP:20260424T054239Z
URL:https://business.bellville.com/events/details/acgop-sharing-christmas-food-drive-3166
END:VEVENT

END:VCALENDAR
