BEGIN:VCALENDAR
VERSION:2.0
PRODID:-//ChamberMaster//Event Calendar 2.0//EN
METHOD:PUBLISH
X-PUBLISHED-TTL:P3D
REFRESH-INTERVAL:P3D
CALSCALE:GREGORIAN
BEGIN:VEVENT
DTSTART:20170508T200000Z
DTEND:20170508T210000Z
X-MICROSOFT-CDO-ALLDAYEVENT:FALSE
SUMMARY:Abuse & Neglect - 58\,000 Child Victims
DESCRIPTION:Last year in Texas\, there were 58\,644 confirmed victims of child abuse / neglect ... that's a child harmed every 9 minutes!  There were 222 child related deaths due to abuse / neglect\, when even one is too many.  This is an ongoing epidemic that has a lasting negative impact on the victims\, our society and our economy.  It's everyone's responsibility to protect our children\, you can be a part of the solution!\n\nJoin us for an Information Session to learn how you can help.  We will give a general overview of who CASA is\, what we do\, and how YOU can do your part.
X-ALT-DESC;FMTTYPE=text/html:Last year in Texas\, there were 58\,644 confirmed victims of child abuse / neglect ... that&#39\;s a child harmed every 9 minutes! &nbsp\;There were 222 child related deaths due to abuse / neglect\, when even one is too many. &nbsp\;This is an ongoing epidemic that has a lasting negative impact on the victims\, our society and our economy. &nbsp\;It&#39\;s everyone&#39\;s responsibility to protect our children\, you can be a part of the solution!<br />\nJoin us for an Information Session to learn how you can help. &nbsp\;We will give a general overview of who CASA is\, what we do\, and how YOU can do your part.&nbsp\;&nbsp\;
LOCATION:Waller County Courthouse Assembly Room
UID:e.2500.3407
SEQUENCE:3
DTSTAMP:20260423T205710Z
URL:https://business.bellville.com/events/details/abuse-neglect-58-000-child-victims-3407
END:VEVENT

END:VCALENDAR
