BEGIN:VCALENDAR
VERSION:2.0
PRODID:-//ChamberMaster//Event Calendar 2.0//EN
METHOD:PUBLISH
X-PUBLISHED-TTL:P3D
REFRESH-INTERVAL:P3D
CALSCALE:GREGORIAN
BEGIN:VEVENT
DTSTART:20171210T210000Z
DTEND:20171210T230000Z
X-MICROSOFT-CDO-ALLDAYEVENT:FALSE
SUMMARY:A Festival of Nine Lessons and Carols
DESCRIPTION:
X-ALT-DESC;FMTTYPE=text/html:
LOCATION:St. Barnabas Anglican Church 237 W. Austin St. Bellville\, TX 77418
UID:e.2500.3692
SEQUENCE:3
DTSTAMP:20260423T114500Z
URL:https://business.bellville.com/events/details/a-festival-of-nine-lessons-and-carols-3692
END:VEVENT

END:VCALENDAR
