BEGIN:VCALENDAR
VERSION:2.0
PRODID:-//ChamberMaster//Event Calendar 2.0//EN
METHOD:PUBLISH
X-PUBLISHED-TTL:P3D
REFRESH-INTERVAL:P3D
CALSCALE:GREGORIAN
BEGIN:VEVENT
DTSTART:20170501T140000Z
DTEND:20170501T190000Z
X-MICROSOFT-CDO-ALLDAYEVENT:FALSE
SUMMARY:A Child Harmed Every 9 Minutes ... How YOU can help!
DESCRIPTION:When a child enters the foster care system because his or her home is no longer safe\, a judge may appoint a committed volunteer to help them. That volunteer is called a Court Appointed Special Advocate \, or CASA.\n\nCASA volunteers are screened and highly trained and then appointed to advocate for a child's best interests in the child protection system. CASA volunteers are each assigned to help one child or set of siblings at a time\, so they can focus on giving that individualized advocacy and attention they need. CASA volunteers save taxpayers money and children's futures by helping children find a safe\, permanent homes as soon as possible.\n\nCASA continues to provide valuable volunteer advocacy for every abused child in this area. CASA volunteers serve as the "eyes and ears" for the judge in child welfare cases. This includes researching each child's situation and making objective recommendations to help them reclaim their childhoods from abuse and neglect. CASA volunteers are frequently the only stable presence in these children's lives as they navigate the foster care system.\n\nThese volunteers bring three critical qualities to their work: they focus on one case at a time\; they bring a unique perspective to the court case\; and their sole objective is representing the best interests of the child.\n\n\n\nJoin our Advocates Academy and YOU can be that CHANCE for a Child!  Pre-Service training consists of 30 hours\, 10 hours face-to-face and the remainder is presented through on-line tutorials and at-home study material.
X-ALT-DESC;FMTTYPE=text/html:<p>When a child enters the foster care system because his or her home is no longer safe\, a judge may appoint a committed volunteer to help them. That volunteer is called a Court Appointed Special Advocate&reg\;\, or CASA.</p>\n\n<p>CASA volunteers are screened and highly trained and then appointed to advocate for a child&rsquo\;s best interests in the child protection system.&nbsp\;CASA volunteers are each assigned to help one child or set of siblings at a time\, so they can focus on giving that individualized advocacy and attention they need.&nbsp\;CASA volunteers save taxpayers money and children&rsquo\;s futures by helping children find a safe\, permanent homes as soon as possible.</p>\n\n<p>CASA continues to provide valuable volunteer advocacy for every abused child in this area. CASA volunteers serve as the &ldquo\;eyes and ears&rdquo\; for the judge in child welfare cases. This includes researching each child&rsquo\;s situation and making objective recommendations to help them reclaim their childhoods from abuse and neglect. CASA volunteers are frequently the only stable presence in these children&rsquo\;s lives as they navigate the foster care system.</p>\n\n<p>These volunteers bring three critical qualities to their work: they focus on one case at a time\; they bring a unique perspective to the court case\; and their sole objective is representing the best interests of the child.<br />\n<br />\nJoin our Advocates Academy and YOU can be that CHANCE for a Child! &nbsp\;Pre-Service training consists of 30 hours\, 10 hours face-to-face and the remainder is presented through on-line tutorials and at-home study material. &nbsp\;</p>\n
LOCATION:CASA office 2309 S. Day Street in Brenham If there is enough interest in your local area\, we will conduct the training in your city!
UID:e.2500.3396
SEQUENCE:3
DTSTAMP:20260423T205711Z
URL:https://business.bellville.com/events/details/a-child-harmed-every-9-minutes-how-you-can-help-3396
END:VEVENT

END:VCALENDAR
