BEGIN:VCALENDAR
VERSION:2.0
PRODID:-//ChamberMaster//Event Calendar 2.0//EN
METHOD:PUBLISH
X-PUBLISHED-TTL:P3D
REFRESH-INTERVAL:P3D
CALSCALE:GREGORIAN
BEGIN:VEVENT
DTSTART;VALUE=DATE:20160514
DTEND;VALUE=DATE:20160515
TRANSP:TRANSPARENT
X-MICROSOFT-CDO-ALLDAYEVENT:TRUE
SUMMARY:5th ANNUAL SAM HINES MEMORIAL SCHOLARSHIP FUNDRAISER BBQ COOK~OFF
DESCRIPTION:BAR B QUE COOK~OFF\n\n\n\n        LIVE/SILENT AUCTION\n\n            50/50 RAFFLE\n\n                LIVE MUSIC\n\n        MOTOR CYCLE RIDE\n\nRegistration begins at 9:00 am\n\nKickstands up 11:00 am
X-ALT-DESC;FMTTYPE=text/html:<br />\n&nbsp\;&nbsp\;&nbsp\;&nbsp\;<span style="font-family: comic sans ms\;"><span style="color: rgb(0\, 0\, 205)\;"><span style="font-size: 20px\;">BAR B QUE COOK~OFF</span></span><br />\n<br />\n&nbsp\;&nbsp\;&nbsp\;&nbsp\;&nbsp\;&nbsp\;&nbsp\;&nbsp\;<span style="color: rgb(255\, 0\, 0)\;">LIVE/SILENT AUCTION</span><br />\n&nbsp\;&nbsp\;&nbsp\;&nbsp\;&nbsp\;&nbsp\;&nbsp\;&nbsp\;&nbsp\;&nbsp\;&nbsp\;&nbsp\;<span style="font-size: 18px\;">50/50 RAFFLE</span><br />\n&nbsp\;&nbsp\;&nbsp\;&nbsp\;&nbsp\;&nbsp\;&nbsp\;&nbsp\;&nbsp\;&nbsp\;&nbsp\;&nbsp\;&nbsp\;&nbsp\;&nbsp\;&nbsp\;<span style="color: rgb(128\, 0\, 128)\;">LIVE MUSIC</span></span><br />\n&nbsp\;&nbsp\;&nbsp\;&nbsp\;&nbsp\;&nbsp\;&nbsp\;&nbsp\;<span style="color: rgb(0\, 100\, 0)\;"><span style="font-size: 18px\;"><span style="font-family: comic sans ms\;">MOTOR CYCLE RIDE</span></span></span><br />\n<span style="font-family: comic sans ms\;">Registration begins at 9:00 am<br />\nKickstands up 11:00 am</span>
LOCATION:Austin County Fair Grounds Benefiting the students of Austin County\, TX Food ~ Beer ~ Fun
UID:e.2500.1506
SEQUENCE:3
DTSTAMP:20260424T160440Z
URL:https://business.bellville.com/events/details/5th-annual-sam-hines-memorial-scholarship-fundraiser-bbq-cook-off-05-14-2016-1506
END:VEVENT

END:VCALENDAR
