BEGIN:VCALENDAR
VERSION:2.0
PRODID:-//ChamberMaster//Event Calendar 2.0//EN
METHOD:PUBLISH
X-PUBLISHED-TTL:P3D
REFRESH-INTERVAL:P3D
CALSCALE:GREGORIAN
BEGIN:VEVENT
DTSTART:20181110T170000Z
DTEND:20181110T200000Z
X-MICROSOFT-CDO-ALLDAYEVENT:FALSE
SUMMARY:5th Annual OATH Sporting Clays Tournament
DESCRIPTION:
X-ALT-DESC;FMTTYPE=text/html:
LOCATION:Texas Premier Sporting Arms 7311 Hwy 36 S Sealy TX 77474
UID:e.2500.6989
SEQUENCE:3
DTSTAMP:20260422T173452Z
URL:https://business.bellville.com/events/details/5th-annual-oath-sporting-clays-tournament-6989
END:VEVENT

END:VCALENDAR
