BEGIN:VCALENDAR
VERSION:2.0
PRODID:-//ChamberMaster//Event Calendar 2.0//EN
METHOD:PUBLISH
X-PUBLISHED-TTL:P3D
REFRESH-INTERVAL:P3D
CALSCALE:GREGORIAN
BEGIN:VEVENT
DTSTART:20170424T170000Z
DTEND:20170424T180000Z
X-MICROSOFT-CDO-ALLDAYEVENT:FALSE
SUMMARY:58\,000 Victims of Child Abuse / Neglect
DESCRIPTION:Last year in Texas\, there were 58\,644 confirmed victims of child abuse / neglect ... that's a child harmed every 9 minutes!  There were 222 child related deaths due to abuse / neglect\, when even one is too many.  This is an ongoing epidemic that has a lasting negative impact on the victims\, our society and our economy.  It's everyone's responsibility to protect our children\, you can be a part of the solution!\n\nJoin us for an Information Session to learn how you can help.  We will give a general overview of who CASA is\, what we do\, and how YOU can do your part.
X-ALT-DESC;FMTTYPE=text/html:Last year in Texas\, there were 58\,644 confirmed victims of child abuse / neglect ... that&#39\;s a child harmed every 9 minutes! &nbsp\;There were 222 child related deaths due to abuse / neglect\, when even one is too many. &nbsp\;This is an ongoing epidemic that has a lasting negative impact on the victims\, our society and our economy. &nbsp\;It&#39\;s everyone&#39\;s responsibility to protect our children\, you can be a part of the solution!<br />\nJoin us for an Information Session to learn how you can help. &nbsp\;We will give a general overview of who CASA is\, what we do\, and how YOU can do your part. &nbsp\;
LOCATION:April 24: CASA office 2309 S. Day Street in Brenham May 8 & 17: Waller County Courthouse Assembly Room
UID:e.2500.3395
SEQUENCE:3
DTSTAMP:20260423T224449Z
URL:https://business.bellville.com/events/details/58-000-victims-of-child-abuse-neglect-3395
END:VEVENT

END:VCALENDAR
