BEGIN:VCALENDAR
VERSION:2.0
PRODID:-//ChamberMaster//Event Calendar 2.0//EN
METHOD:PUBLISH
X-PUBLISHED-TTL:P3D
REFRESH-INTERVAL:P3D
CALSCALE:GREGORIAN
BEGIN:VEVENT
DTSTART:20171110T130000Z
DTEND:20171110T220000Z
X-MICROSOFT-CDO-ALLDAYEVENT:FALSE
SUMMARY:$5 Jewelry Sale @ CHI St Joseph Hospital
DESCRIPTION:Proceeds benefit the American Cancer Society
X-ALT-DESC;FMTTYPE=text/html:Proceeds benefit the American Cancer Society
LOCATION:In the conference room at the hospital
UID:e.2500.3657
SEQUENCE:3
DTSTAMP:20260423T114501Z
URL:https://business.bellville.com/events/details/5-jewelry-sale-chi-st-joseph-hospital-3657
END:VEVENT

END:VCALENDAR
