BEGIN:VCALENDAR
VERSION:2.0
PRODID:-//ChamberMaster//Event Calendar 2.0//EN
METHOD:PUBLISH
X-PUBLISHED-TTL:P3D
REFRESH-INTERVAL:P3D
CALSCALE:GREGORIAN
BEGIN:VEVENT
DTSTART:20181104T220000Z
DTEND:20181104T233000Z
X-MICROSOFT-CDO-ALLDAYEVENT:FALSE
SUMMARY:4th Annual St. Barnabas Anglican Church Hymn Sing & Ice Cream Social
DESCRIPTION:
X-ALT-DESC;FMTTYPE=text/html:
LOCATION:237 W Austin St Bellville TX 77418
UID:e.2500.6985
SEQUENCE:3
DTSTAMP:20260422T154932Z
URL:https://business.bellville.com/events/details/4th-annual-st-barnabas-anglican-church-hymn-sing-ice-cream-social-6985
END:VEVENT

END:VCALENDAR
