BEGIN:VCALENDAR
VERSION:2.0
PRODID:-//ChamberMaster//Event Calendar 2.0//EN
METHOD:PUBLISH
X-PUBLISHED-TTL:P3D
REFRESH-INTERVAL:P3D
CALSCALE:GREGORIAN
BEGIN:VEVENT
DTSTART:20160423T120000Z
DTEND:20160423T210000Z
X-MICROSOFT-CDO-ALLDAYEVENT:FALSE
SUMMARY:4th Annual Housing Fair
DESCRIPTION:This one-day event provides a venue for potential home buyers and current homeowners to speak directly to mortgage industry professionals. Participants will receive information on the various entities and resources available for their real-estate needs and individuals will be identified for 502 and 504 USDA loans.
X-ALT-DESC;FMTTYPE=text/html:This one-day event provides a venue for potential home buyers and current homeowners to speak directly to mortgage industry professionals. Participants will receive information on the various entities and resources available for their real-estate needs and individuals will be identified for 502 and 504 USDA loans.
LOCATION:Prairie View A&M University Carden-Waller Cooperative Extension Building Prairie View\, TX
UID:e.2500.1490
SEQUENCE:3
DTSTAMP:20260424T190554Z
URL:https://business.bellville.com/events/details/4th-annual-housing-fair-04-23-2016-1490
END:VEVENT

END:VCALENDAR
