BEGIN:VCALENDAR
VERSION:2.0
PRODID:-//ChamberMaster//Event Calendar 2.0//EN
METHOD:PUBLISH
X-PUBLISHED-TTL:P3D
REFRESH-INTERVAL:P3D
CALSCALE:GREGORIAN
BEGIN:VEVENT
DTSTART:20180925T150000Z
DTEND:20180925T180000Z
X-MICROSOFT-CDO-ALLDAYEVENT:FALSE
SUMMARY:4th Annual Health & Wellness Fair
DESCRIPTION:Presented by 1st Texas Home Health & Bellville Chamber of Commerce
X-ALT-DESC;FMTTYPE=text/html:Presented by 1st Texas Home Health &amp\; Bellville Chamber of Commerce
LOCATION:Bellville United Methodist Church 234 S. Masonic Bellville\, TX 77418
UID:e.2500.6929
SEQUENCE:3
DTSTAMP:20260422T185853Z
URL:https://business.bellville.com/events/details/4th-annual-health-wellness-fair-6929
END:VEVENT

END:VCALENDAR
