BEGIN:VCALENDAR
VERSION:2.0
PRODID:-//ChamberMaster//Event Calendar 2.0//EN
METHOD:PUBLISH
X-PUBLISHED-TTL:P3D
REFRESH-INTERVAL:P3D
CALSCALE:GREGORIAN
BEGIN:VEVENT
DTSTART:20180911T223000Z
DTEND:20180912T003000Z
X-MICROSOFT-CDO-ALLDAYEVENT:FALSE
SUMMARY:2nd Annual Patriot's Day - Flag Retirement Ceremony
DESCRIPTION:Free hot dogs\, drinks and Blue Bell Ice Cream
X-ALT-DESC;FMTTYPE=text/html:Free hot dogs\, drinks and Blue Bell Ice Cream
LOCATION:Chesley Park (Bellville Mini Park)
UID:e.2500.6928
SEQUENCE:3
DTSTAMP:20260422T190054Z
URL:https://business.bellville.com/events/details/2nd-annual-patriot-s-day-flag-retirement-ceremony-6928
END:VEVENT

END:VCALENDAR
