BEGIN:VCALENDAR
VERSION:2.0
PRODID:-//ChamberMaster//Event Calendar 2.0//EN
METHOD:PUBLISH
X-PUBLISHED-TTL:P3D
REFRESH-INTERVAL:P3D
CALSCALE:GREGORIAN
BEGIN:VEVENT
DTSTART;VALUE=DATE:20160812
DTEND;VALUE=DATE:20160813
TRANSP:TRANSPARENT
X-MICROSOFT-CDO-ALLDAYEVENT:TRUE
SUMMARY:2nd Annual John and Grace Mumme Golf Tournament
DESCRIPTION:Click Here for 2016 Sign Up Sheet\n\n2 Flights\n\nGet your TEAM together\n\nBecome a SPONSOR
X-ALT-DESC;FMTTYPE=text/html:<a href="https://chambermaster.blob.core.windows.net/userfiles/UserFiles/chambers/2500/File/2016GolfTournamentBrochurecompleted.pdf">Click Here</a> for 2016 Sign Up Sheet<br />\n2 Flights<br />\nGet your TEAM together<br />\nBecome a SPONSOR<br />\n&nbsp\;
LOCATION:Bellville Golf and Recreation
UID:e.2500.1516
SEQUENCE:3
DTSTAMP:20260424T112034Z
URL:https://business.bellville.com/events/details/2nd-annual-john-and-grace-mumme-golf-tournament-08-12-2016-1516
END:VEVENT

END:VCALENDAR
