BEGIN:VCALENDAR
VERSION:2.0
PRODID:-//ChamberMaster//Event Calendar 2.0//EN
METHOD:PUBLISH
X-PUBLISHED-TTL:P3D
REFRESH-INTERVAL:P3D
CALSCALE:GREGORIAN
BEGIN:VEVENT
DTSTART:20160920T150000Z
DTEND:20160920T180000Z
X-MICROSOFT-CDO-ALLDAYEVENT:FALSE
SUMMARY:2nd Annual Health and Wellness Expo
DESCRIPTION:Sponsored by 1st Texas Home Health\n\nand\n\nBellville Chamber of Commerce
X-ALT-DESC;FMTTYPE=text/html:Sponsored by 1st Texas Home Health<br />\nand<br />\nBellville Chamber of Commerce
LOCATION:Bellville Methodist Church 234 S. Masonic Bellville\, TX 77418
UID:e.2500.1746
SEQUENCE:3
DTSTAMP:20260424T100640Z
URL:https://business.bellville.com/events/details/2nd-annual-health-and-wellness-expo-1746
END:VEVENT

END:VCALENDAR
