BEGIN:VCALENDAR
VERSION:2.0
PRODID:-//ChamberMaster//Event Calendar 2.0//EN
METHOD:PUBLISH
X-PUBLISHED-TTL:P3D
REFRESH-INTERVAL:P3D
CALSCALE:GREGORIAN
BEGIN:VEVENT
DTSTART:20170826T143000Z
DTEND:20170826T170000Z
X-MICROSOFT-CDO-ALLDAYEVENT:FALSE
SUMMARY:2nd Annual All Around Cowboy Church Calf Roping
DESCRIPTION:Church at 9:30am\n\nRoping at 11:30am\n\n\n\nMust attend Church for prizes
X-ALT-DESC;FMTTYPE=text/html:Church at 9:30am<br />\nRoping at 11:30am<br />\n<br />\nMust attend Church for prizes
LOCATION:All Around Cowboy Church 5812 Cross Tree Lane Sealy TX 77474
UID:e.2500.3582
SEQUENCE:3
DTSTAMP:20260423T162751Z
URL:https://business.bellville.com/events/details/2nd-annual-all-around-cowboy-church-calf-roping-3582
END:VEVENT

END:VCALENDAR
