BEGIN:VCALENDAR
VERSION:2.0
PRODID:-//ChamberMaster//Event Calendar 2.0//EN
METHOD:PUBLISH
X-PUBLISHED-TTL:P3D
REFRESH-INTERVAL:P3D
CALSCALE:GREGORIAN
BEGIN:VEVENT
DTSTART:20170318T220000Z
DTEND:20170319T040000Z
X-MICROSOFT-CDO-ALLDAYEVENT:FALSE
SUMMARY:1st Annual Crawfish Boil and Band at Emery's Buffalo Creek
DESCRIPTION:Crawfish Boil with family fun and a concert with music by Red Bulls
X-ALT-DESC;FMTTYPE=text/html:Crawfish Boil with family fun and a concert with music by Red Bulls
LOCATION:Emery's Buffalo Creek 10827 HWY 36 Bellville\, TX 78537
UID:e.2500.3192
SEQUENCE:3
DTSTAMP:20260424T002336Z
URL:https://business.bellville.com/events/details/1st-annual-crawfish-boil-and-band-at-emery-s-buffalo-creek-3192
END:VEVENT

END:VCALENDAR
