BEGIN:VCALENDAR
VERSION:2.0
PRODID:-//ChamberMaster//Event Calendar 2.0//EN
METHOD:PUBLISH
X-PUBLISHED-TTL:P3D
REFRESH-INTERVAL:P3D
CALSCALE:GREGORIAN
BEGIN:VEVENT
DTSTART:20170408T170000Z
DTEND:20170409T040000Z
X-MICROSOFT-CDO-ALLDAYEVENT:FALSE
SUMMARY:1st Annual Crawfish and Clays Tournament
DESCRIPTION:Benefiting the Austin County Fire Fighters Association
X-ALT-DESC;FMTTYPE=text/html:Benefiting the Austin County Fire Fighters Association
LOCATION:Texas Premier Sporting Arms 7311 Hwy 36 South Sealy\, TX
UID:e.2500.3366
SEQUENCE:3
DTSTAMP:20260423T224415Z
URL:https://business.bellville.com/events/details/1st-annual-crawfish-and-clays-tournament-3366
END:VEVENT

END:VCALENDAR
