BEGIN:VCALENDAR
VERSION:2.0
PRODID:-//ChamberMaster//Event Calendar 2.0//EN
METHOD:PUBLISH
X-PUBLISHED-TTL:P3D
REFRESH-INTERVAL:P3D
CALSCALE:GREGORIAN
BEGIN:VEVENT
DTSTART:20170812T150000Z
DTEND:20170812T200000Z
X-MICROSOFT-CDO-ALLDAYEVENT:FALSE
SUMMARY:1st Annual Back To School Fair
DESCRIPTION:Be Blessed. Non-profit Organization will be hosting our very first annual back to school fair. Assisting low-income families and children. Be Blessed is always seeking sponcers\, volunteers and dontations.
X-ALT-DESC;FMTTYPE=text/html:Be Blessed. Non-profit Organization will be hosting our very first annual back to school fair. Assisting low-income families and children. Be Blessed is always seeking sponcers\, volunteers and dontations.&nbsp\;
LOCATION:Una Luz En El Desierto\, Church 926 E. Hill St Bellville\, TX 77418
UID:e.2500.3573
SEQUENCE:3
DTSTAMP:20260423T174743Z
URL:https://business.bellville.com/events/details/1st-annual-back-to-school-fair-3573
END:VEVENT

END:VCALENDAR
