BEGIN:VCALENDAR
VERSION:2.0
PRODID:-//ChamberMaster//Event Calendar 2.0//EN
METHOD:PUBLISH
X-PUBLISHED-TTL:P3D
REFRESH-INTERVAL:P3D
CALSCALE:GREGORIAN
BEGIN:VEVENT
DTSTART;VALUE=DATE:20170624
DTEND;VALUE=DATE:20170625
TRANSP:TRANSPARENT
X-MICROSOFT-CDO-ALLDAYEVENT:TRUE
SUMMARY:19th Annual Summer Music Festival
DESCRIPTION:Summer Music Festival\n\nAttendance: 4500+\n\nLive Music - BBQ cook-off
X-ALT-DESC;FMTTYPE=text/html:Summer Music Festival<br />\nAttendance: 4500+<br />\nLive Music - BBQ cook-off
LOCATION:Austin County Fair Grounds 1076 East Hill\, Bellville\, Texas 77418
UID:e.2500.533
SEQUENCE:3
DTSTAMP:20260423T192952Z
URL:https://business.bellville.com/events/details/19th-annual-summer-music-festival-533
END:VEVENT

END:VCALENDAR
