BEGIN:VCALENDAR
VERSION:2.0
PRODID:-//ChamberMaster//Event Calendar 2.0//EN
METHOD:PUBLISH
X-PUBLISHED-TTL:P3D
REFRESH-INTERVAL:P3D
CALSCALE:GREGORIAN
BEGIN:VEVENT
DTSTART:20190322T230000Z
DTEND:20190323T020000Z
X-MICROSOFT-CDO-ALLDAYEVENT:FALSE
SUMMARY:15th Annual Go Texan Crawfish Boil
DESCRIPTION:Benefiting Scholarship Fund for Austin County Students
X-ALT-DESC;FMTTYPE=text/html:Benefiting Scholarship Fund for Austin County Students
LOCATION:Austin County Fairgrounds
UID:e.2500.7418
SEQUENCE:3
DTSTAMP:20260422T091033Z
URL:https://business.bellville.com/events/details/15th-annual-go-texan-crawfish-boil-7418
END:VEVENT

END:VCALENDAR
