BEGIN:VCALENDAR
VERSION:2.0
PRODID:-//ChamberMaster//Event Calendar 2.0//EN
METHOD:PUBLISH
X-PUBLISHED-TTL:P3D
REFRESH-INTERVAL:P3D
CALSCALE:GREGORIAN
BEGIN:VEVENT
DTSTART:20170121T180000Z
DTEND:20170121T220000Z
X-MICROSOFT-CDO-ALLDAYEVENT:FALSE
SUMMARY:13th Annual Red Hot Chili Cook Off
DESCRIPTION:On Saturday\, January 21\, 2017 at 12:00 noon the Round Top Family Library will host its 13th Annual Red Hot Chili Cook Off at The Stone Cellar in Round Top TX. If you would like to cook\, pick up an applications at the library front desk or apply online at www.ilovetoread.org. Admission is $10\, kids under 12 are free. All proceeds benefit the Library.
X-ALT-DESC;FMTTYPE=text/html:On Saturday\, January 21\, 2017 at 12:00 noon the Round Top Family Library will host its 13th Annual Red Hot Chili Cook Off at The Stone Cellar in Round Top TX. If you would like to cook\, pick up an applications at the library front desk or apply online at www.ilovetoread.org. Admission is $10\, kids under 12 are free. All proceeds benefit the Library.
LOCATION:The Stone Cellar in Round Top TX
UID:e.2500.3169
SEQUENCE:3
DTSTAMP:20260424T034546Z
URL:https://business.bellville.com/events/details/13th-annual-red-hot-chili-cook-off-3169
END:VEVENT

END:VCALENDAR
