BEGIN:VCALENDAR
VERSION:2.0
PRODID:-//ChamberMaster//Event Calendar 2.0//EN
METHOD:PUBLISH
X-PUBLISHED-TTL:P3D
REFRESH-INTERVAL:P3D
CALSCALE:GREGORIAN
BEGIN:VEVENT
DTSTART:20160409T230000Z
DTEND:20160410T030000Z
X-MICROSOFT-CDO-ALLDAYEVENT:FALSE
SUMMARY:10th Annual Austin Count Go Texan Crawfish Boil
DESCRIPTION:12th Annual Austin County Go Texan Crawfish Boil
X-ALT-DESC;FMTTYPE=text/html:12th Annual Austin County Go Texan Crawfish Boil
LOCATION:Austin County Fair Convention & Expo Center: 1076 East Hill\, Bellville\, Texas 77418
UID:e.2500.525
SEQUENCE:3
DTSTAMP:20260424T173617Z
URL:https://business.bellville.com/events/details/10th-annual-austin-count-go-texan-crawfish-boil-04-09-2016-525
END:VEVENT

END:VCALENDAR
